BEGIN:VCALENDAR
VERSION:2.0
PRODID:-//hacksw/handcal//NONSGML v1.0//EN
BEGIN:VEVENT
SUMMARY:HBCSL - St Mitre
UID:457a43ee-7474-4b71-9712-0d7d9e7803ad
DTSTART:20260307T200000Z
DTEND:20260307T230000Z
LOCATION:Localisation   
CATEGORIES:Sportif
STATUS:
URL;VALUE=URI:https://hbcsl.sportsregions.fr/evenements/2026/03/07/hbcsl-st-mitre-2423007
END:VEVENT
END:VCALENDAR
