BEGIN:VCALENDAR
VERSION:2.0
PRODID:-//hacksw/handcal//NONSGML v1.0//EN
BEGIN:VEVENT
SUMMARY:U15 HBCSL - Martigues
UID:426d354e-e478-41d6-b11f-2fc5aceab7b9
DTSTART:20260307T120000Z
DTEND:20260307T230000Z
LOCATION:Localisation   
CATEGORIES:Sportif
STATUS:
URL;VALUE=URI:https://hbcsl.sportsregions.fr/evenements/2026/03/07/u15-hbcsl-martigues-2423006
END:VEVENT
END:VCALENDAR
