BEGIN:VCALENDAR
VERSION:2.0
PRODID:-//hacksw/handcal//NONSGML v1.0//EN
BEGIN:VEVENT
SUMMARY:U17 HBCSL/Arles - Fos
UID:a32c6b88-2b0e-4034-b823-4f81e2933d0b
DTSTART:20260314T150000Z
DTEND:20260314T230000Z
LOCATION:Localisation   
CATEGORIES:Sportif
STATUS:
URL;VALUE=URI:https://hbcsl.sportsregions.fr/evenements/2026/03/14/u17-hbcslarles-fos-2423009
END:VEVENT
END:VCALENDAR
