BEGIN:VCALENDAR
VERSION:2.0
PRODID:-//hacksw/handcal//NONSGML v1.0//EN
BEGIN:VEVENT
SUMMARY:HBCSL - Marignane
UID:cda104a4-1b50-48e6-acbc-5d51c0d14ab4
DTSTART:20260321T180000Z
DTEND:20260321T230000Z
LOCATION:Localisation   
CATEGORIES:Sportif
STATUS:
URL;VALUE=URI:https://hbcsl.sportsregions.fr/evenements/2026/03/21/hbcsl-marignane-2423011
END:VEVENT
END:VCALENDAR
